BEGIN:VCALENDAR
VERSION:2.0
PRODID:www.caperesorts.com
X-WR-CALNAME:Calendar Of Events
X-WR-CALDESC:Lists the events
X-WR-TIMEZONE:America/New_York
BEGIN:VTIMEZONE
TZID:America/New_York
X-LIC-LOCATION:America/New_York
END:VTIMEZONE
BEGIN:VEVENT
UID:69eb9d5a817b7
DTSTART;VALUE=DATE:20260306
SEQUENCE:0
TRANSP:OPAQUE
URL:https://www.caperesorts.com/beach-shack/calendar/falconry-at-the-farm
SUMMARY:The Art of Falconry
CLASS:PUBLIC
DESCRIPTION:The Art of Falconry\n\nOffered exclusively to Cape Resorts gues
 ts\, this educational experience at Beach Plum Farm explores the rich hist
 ory of falconry.
RRULE:FREQ=WEEKLY;INTERVAL=1;UNTIL=20261218T000000Z;BYDAY=FR
EXDATE;VALUE=DATE:20260417
X-MICROSOFT-CDO-ALLDAYEVENT:TRUE
CATEGORIES:Guest Activities
DTSTAMP:20260424T164202Z
END:VEVENT
BEGIN:VEVENT
UID:69eb9d5a83578
DTSTART;VALUE=DATE:20260314
SEQUENCE:0
TRANSP:OPAQUE
URL:https://www.caperesorts.com/beach-shack/calendar/yoga-at-the-sandpiper
SUMMARY:Indoor Yoga at The Sandpiper
CLASS:PUBLIC
DESCRIPTION:Indoor Yoga at The Sandpiper\n\nGather in The Piper Lounge at T
 he Sandpiper for a guided yoga session led by our experienced instructors.
RRULE:FREQ=WEEKLY;INTERVAL=1;UNTIL=20261226T000000Z;BYDAY=SA
EXDATE;VALUE=DATE:20250322,20260523,20260530,20260606,20260613,20260620,202
 60627,20260704,20260711,20260718,20260725,20260801,20260808,20260815,20260
 822,20260829,20260905,20260912,20260919,20260926,20261003,20261010
X-MICROSOFT-CDO-ALLDAYEVENT:TRUE
CATEGORIES:Guest Activities
DTSTAMP:20260424T164202Z
END:VEVENT
BEGIN:VEVENT
UID:69eb9d5a85532
DTSTART;VALUE=DATE:20260405
SEQUENCE:0
TRANSP:OPAQUE
URL:https://www.caperesorts.com/beach-shack/calendar/easter-brunch-at-congr
 ess-hall
SUMMARY:Easter Brunch at Congress Hall
CLASS:PUBLIC
DESCRIPTION:Easter Brunch at Congress Hall\n\nThis Easter\, our beloved spr
 ing traditions return to Congress Hall! Treat the family to a morning of d
 elicious dining and holiday fun.
RRULE:FREQ=DAILY;INTERVAL=1;UNTIL=20260405T000000Z
X-MICROSOFT-CDO-ALLDAYEVENT:TRUE
CATEGORIES:Local Events
DTSTAMP:20260424T164202Z
END:VEVENT
BEGIN:VEVENT
UID:69eb9d5a87246
DTSTART;VALUE=DATE:20260506
SEQUENCE:0
TRANSP:OPAQUE
URL:https://www.caperesorts.com/beach-shack/calendar/garden-the-chef
SUMMARY:Garden with the Chef
CLASS:PUBLIC
DESCRIPTION:Garden with the Chef\n\nOffered exclusively to Cape Resorts gue
 sts\, join one of our chefs for an intimate stroll through the fields of B
 each Plum farm.
RRULE:FREQ=WEEKLY;INTERVAL=1;UNTIL=20260531T000000Z;BYDAY=WE
X-MICROSOFT-CDO-ALLDAYEVENT:TRUE
CATEGORIES:Guest Activities
DTSTAMP:20260424T164202Z
END:VEVENT
BEGIN:VEVENT
UID:69eb9d5a89300
DTSTART;VALUE=DATE:20260501
SEQUENCE:0
TRANSP:OPAQUE
URL:https://www.caperesorts.com/beach-shack/calendar/guided-beach-plum-farm
 -tour
SUMMARY:Guided Beach Plum Farm Tour
CLASS:PUBLIC
DESCRIPTION:Guided Beach Plum Farm Tour\n\nJoin us for a guided walk throug
 h Beach Plum Farm and take a stroll through our sun-kissed backfields.
RRULE:FREQ=WEEKLY;INTERVAL=1;UNTIL=20260926T000000Z;BYDAY=TH,FR,SA
X-MICROSOFT-CDO-ALLDAYEVENT:TRUE
CATEGORIES:Guest Activities
DTSTAMP:20260424T164202Z
END:VEVENT
BEGIN:VEVENT
UID:69eb9d5a8b18f
DTSTART;VALUE=DATE:20260503
SEQUENCE:0
TRANSP:OPAQUE
URL:https://www.caperesorts.com/beach-shack/calendar/forest-meditation
SUMMARY:Forest Meditation Class
CLASS:PUBLIC
DESCRIPTION:Forest Meditation Class\n\nOffered exclusively to Cape Resorts 
 guests\, this guided forest meditation invites guests to peaceful woods of
  Beach Plum Farm.
RRULE:FREQ=WEEKLY;INTERVAL=1;UNTIL=20260525T000000Z;BYDAY=SU
X-MICROSOFT-CDO-ALLDAYEVENT:TRUE
CATEGORIES:Guest Activities
DTSTAMP:20260424T164202Z
END:VEVENT
BEGIN:VEVENT
UID:69eb9d5a8d50e
DTSTART;VALUE=DATE:20260522
SEQUENCE:0
TRANSP:OPAQUE
URL:https://www.caperesorts.com/beach-shack/calendar/beach-bootcamp
SUMMARY:Beach Bootcamp with Donna Valentine
CLASS:PUBLIC
DESCRIPTION:Beach Bootcamp with Donna Valentine\n\nJoin Donna Valentine on 
 the Congress Hall Beach for a workout fit for all levels!
RRULE:FREQ=WEEKLY;INTERVAL=1;UNTIL=20261012T000000Z;BYDAY=MO,TU,WE,TH,FR,SA
 ,SU
X-MICROSOFT-CDO-ALLDAYEVENT:TRUE
CATEGORIES:Guest Activities
DTSTAMP:20260424T164202Z
END:VEVENT
BEGIN:VEVENT
UID:69eb9d5a8db1b
DTSTART;VALUE=DATE:20260522
SEQUENCE:0
TRANSP:OPAQUE
URL:https://www.caperesorts.com/beach-shack/calendar/beach-yoga
SUMMARY:Beach Yoga
CLASS:PUBLIC
DESCRIPTION:Beach Yoga\n\nJoin us on the Congress Hall Beach and find balan
 ce with guided routines for all levels.
RRULE:FREQ=DAILY;INTERVAL=1;UNTIL=20261012T000000Z
X-MICROSOFT-CDO-ALLDAYEVENT:TRUE
CATEGORIES:Guest Activities
DTSTAMP:20260424T164202Z
END:VEVENT
BEGIN:VEVENT
UID:69eb9d5a8f25a
DTSTART;VALUE=DATE:20260528
SEQUENCE:0
TRANSP:OPAQUE
URL:https://www.caperesorts.com/beach-shack/calendar/summer-kickoff-dinner-
 at-congress-hall
SUMMARY:Summer Kickoff Dinner at Congress Hall
CLASS:PUBLIC
DESCRIPTION:Summer Kickoff Dinner at Congress Hall\n\nThis May\, a thoughtf
 ully curated menu by Chef Zaitoun sets the tone for the months ahead at ou
 r Summer Kickoff Dinner.
RRULE:FREQ=DAILY;INTERVAL=1;UNTIL=20260528T000000Z
X-MICROSOFT-CDO-ALLDAYEVENT:TRUE
CATEGORIES:Local Events
DTSTAMP:20260424T164202Z
END:VEVENT
BEGIN:VEVENT
UID:69eb9d5a8fc61
DTSTART;VALUE=DATE:20260611
SEQUENCE:0
TRANSP:OPAQUE
URL:https://www.caperesorts.com/beach-shack/calendar/seafood-table-dinner-a
 t-congress-hall
SUMMARY:Seafood Table Dinner at Congress Hall
CLASS:PUBLIC
DESCRIPTION:Seafood Table Dinner at Congress Hall\n\nThis June\, Chef Zaito
 un highlights the flavors of the coast with a multi-course Seafood Table D
 inner on the Congress Hall Veranda.
RRULE:FREQ=DAILY;INTERVAL=1;UNTIL=20260611T000000Z
X-MICROSOFT-CDO-ALLDAYEVENT:TRUE
CATEGORIES:Local Events
DTSTAMP:20260424T164202Z
END:VEVENT
BEGIN:VEVENT
UID:69eb9d5a91883
DTSTART;VALUE=DATE:20260704
SEQUENCE:0
TRANSP:OPAQUE
URL:https://www.caperesorts.com/beach-shack/calendar/fourth-of-july-celebra
 tion-at-congress-hall
SUMMARY:Fourth of July Celebration at Congress Hall
CLASS:PUBLIC
DESCRIPTION:Fourth of July Celebration at Congress Hall\n\nOur grand Fourth
  of July Celebration returns! For over 200 summers\, we've had the honor t
 o host this beloved tradition\, year after year.
RRULE:FREQ=DAILY;INTERVAL=1;UNTIL=20260704T000000Z
X-MICROSOFT-CDO-ALLDAYEVENT:TRUE
CATEGORIES:Guest Activities
DTSTAMP:20260424T164202Z
END:VEVENT
BEGIN:VEVENT
UID:69eb9d5a9419c
DTSTART;VALUE=DATE:20260919
SEQUENCE:0
TRANSP:OPAQUE
URL:https://www.caperesorts.com/beach-shack/calendar/rusty-nail-doggie-page
 ant
SUMMARY:The 2026 Rusty Nail Doggie Pageant
CLASS:PUBLIC
DESCRIPTION:The 2026 Rusty Nail Doggie Pageant\n\nThe Rusty Nail is dog-gon
 e excited to announce the return of our renowned Doggie Pageant on Saturda
 y\, September 19\, 2026!
RRULE:FREQ=DAILY;INTERVAL=1;UNTIL=20260919T000000Z
X-MICROSOFT-CDO-ALLDAYEVENT:TRUE
CATEGORIES:Special Events
DTSTAMP:20260424T164202Z
END:VEVENT
BEGIN:VEVENT
UID:69eb9d5a94d4d
DTSTART;VALUE=DATE:20260924
SEQUENCE:0
TRANSP:OPAQUE
URL:https://www.caperesorts.com/beach-shack/calendar/shuck-sear-dinner-2-at
 -congress-hall
SUMMARY:Shuck & Sear Dinner 2.0 at Congress Hall
CLASS:PUBLIC
DESCRIPTION:Shuck & Sear Dinner 2.0 at Congress Hall\n\nThis September\, Ch
 ef Zaitoun will elevate \"surf and turf\" to a new level with a five-cours
 e dinner on the Congress Hall Veranda.
RRULE:FREQ=DAILY;INTERVAL=1;UNTIL=20260924T000000Z
X-MICROSOFT-CDO-ALLDAYEVENT:TRUE
CATEGORIES:Local Events
DTSTAMP:20260424T164202Z
END:VEVENT
BEGIN:VEVENT
UID:69eb9d5a95e72
DTSTART;VALUE=DATE:20260214
SEQUENCE:0
TRANSP:OPAQUE
URL:https://www.caperesorts.com/beach-shack/calendar/congress-hall-history-
 tour-11
SUMMARY:Congress Hall History Tour
CLASS:PUBLIC
DESCRIPTION:Congress Hall History Tour\n\nOn a Congress Hall History Tour\,
  you'll be guided through this grand hotel's storied past.
RRULE:FREQ=WEEKLY;INTERVAL=1;UNTIL=20261227T000000Z;BYDAY=MO,TU,WE,SA
EXDATE;VALUE=DATE:20260213,20260215,20260217,20260218,20260219,20260220,202
 60222,20260224,20260225,20260226,20260227,20260301,20260303,20260304,20260
 305,20260306,20260308,20260310,20260311,20260312,20260313,20260315,2026031
 7,20260318,20260319,20260320,20260322,20260324,20260325,20260326,20260327,
 20260329,20260331,20260401,20260402,20260403,20260405,20260407,20260408,20
 260409,20260410,20260412,20260414,20260415,20260416,20260417,20260419,2026
 0421,20260422,20260423,20260424,20260426,20260428,20260429,20260430,202605
 01,20260503,20260505,20260506,20260507,20260508,20260510,20260512,20260513
 ,20260514,20260515,20260517,20260519,20260520,20260521,20260522,20260524,2
 0260526,20260527,20260528,20260529,20260531,20260602,20260603,20260604,202
 60605,20260607,20260609,20260610,20260611,20260612,20260614,20260616,20260
 618,20260619,20260621,20260625,20260626,20260628,20260702,20260703,2026070
 5,20260709,20260710,20260712,20260716,20260717,20260719,20260723,20260724,
 20260726,20260730,20260731,20260802,20260806,20260807,20260809,20260813,20
 260814,20260816,20260820,20260821,20260823,20260827,20260828,20260830,2026
 0903,20260904,20260906,20260908,20260909,20260910,20260911,20260913,202609
 15,20260916,20260917,20260918,20260920,20260922,20260923,20260924,20260925
 ,20260927,20260929,20260930,20261001,20261002,20261004,20261006,20261007,2
 0261008,20261009,20261011,20261013,20261014,20261015,20261016,20261018,202
 61020,20261021,20261022,20261023,20261025,20261027,20261028,20261029,20261
 030,20261101,20261103,20261104,20261105,20261106,20261108,20261110,2026111
 1,20261112,20261113,20261115,20261117,20261118,20261119,20261120,20261122,
 20261124,20261125,20261126,20261127,20261129,20261201,20261202,20261203,20
 261204,20261206,20261208,20261209,20261210,20261211,20261213,20261215,2026
 1216,20261217,20261218,20261220,20261222,20261223,20261224,20261225,202612
 27,20261229,20261230,20261231
X-MICROSOFT-CDO-ALLDAYEVENT:TRUE
CATEGORIES:Guest Activities
DTSTAMP:20260424T164202Z
END:VEVENT
BEGIN:VEVENT
UID:69eb9d5a97903
DTSTART;VALUE=DATE:20260213
SEQUENCE:0
TRANSP:OPAQUE
URL:https://www.caperesorts.com/beach-shack/calendar/history-tour-130
SUMMARY:Congress Hall History Tour
CLASS:PUBLIC
DESCRIPTION:Congress Hall History Tour\n\nOn a Congress Hall History Tour\,
  you'll be guided through this grand hotel's storied past.
RRULE:FREQ=WEEKLY;INTERVAL=1;UNTIL=20261231T000000Z;BYDAY=TH,FR,SU
EXDATE;VALUE=DATE:20260214,20260216,20260217,20260218,20260221,20260223,202
 60224,20260225,20260228,20260302,20260303,20260304,20260307,20260309,20260
 310,20260311,20260314,20260316,20260317,20260318,20260321,20260323,2026032
 4,20260325,20260328,20260330,20260331,20260401,20260404,20260406,20260407,
 20260408,20260411,20260413,20260414,20260415,20260418,20260420,20260421,20
 260422,20260425,20260427,20260428,20260429,20260502,20260504,20260505,2026
 0506,20260509,20260511,20260512,20260513,20260516,20260518,20260519,202605
 20,20260523,20260525,20260526,20260527,20260530,20260601,20260602,20260603
 ,20260606,20260608,20260609,20260610,20260613,20260615,20260616,20260617,2
 0260620,20260622,20260623,20260624,20260627,20260629,20260630,20260701,202
 60704,20260706,20260707,20260708,20260711,20260713,20260714,20260715,20260
 718,20260720,20260721,20260722,20260725,20260727,20260728,20260729,2026080
 1,20260803,20260804,20260805,20260808,20260810,20260811,20260812,20260815,
 20260817,20260818,20260819,20260822,20260824,20260825,20260826,20260829,20
 260831,20260901,20260902,20260905,20260907,20260908,20260909,20260912,2026
 0914,20260915,20260916,20260919,20260921,20260922,20260923,20260926,202609
 28,20260929,20260930,20261003,20261005,20261006,20261007,20261010,20261012
 ,20261013,20261014,20261017,20261019,20261020,20261021,20261024,20261026,2
 0261027,20261028,20261031,20261102,20261103,20261104,20261107,20261109,202
 61110,20261111,20261114,20261116,20261117,20261118,20261121,20261123,20261
 124,20261125,20261128,20261130,20261201,20261202,20261205,20261207,2026120
 8,20261209,20261212,20261214,20261215,20261216,20261219,20261221,20261222,
 20261223,20261226,20261228,20261229,20261230,20261231
X-MICROSOFT-CDO-ALLDAYEVENT:TRUE
CATEGORIES:Guest Activities
DTSTAMP:20260424T164202Z
END:VEVENT
BEGIN:VEVENT
UID:69eb9d5a98a3b
DTSTART;VALUE=DATE:20260401
SEQUENCE:0
TRANSP:OPAQUE
URL:https://www.caperesorts.com/beach-shack/calendar/pink-moon-dinner-at-be
 ach-plum-farm
SUMMARY:Pink Moon Dinner
CLASS:PUBLIC
DESCRIPTION:Pink Moon Dinner\n\nWelcome the first full moon of spring at Be
 ach Plum Farm as the fields begin to awaken for the season.
RRULE:FREQ=DAILY;INTERVAL=1;UNTIL=20260401T000000Z
X-MICROSOFT-CDO-ALLDAYEVENT:TRUE
CATEGORIES:Local Events
DTSTAMP:20260424T164202Z
END:VEVENT
BEGIN:VEVENT
UID:69eb9d5a99207
DTSTART;VALUE=DATE:20260403
SEQUENCE:0
TRANSP:OPAQUE
URL:https://www.caperesorts.com/beach-shack/calendar/charlie-wigo-at-the-ru
 sty-nail3
SUMMARY:Charlie Wigo at The Rusty Nail
CLASS:PUBLIC
DESCRIPTION:Charlie Wigo at The Rusty Nail\n\nCharlie Wigo is the front man
  of Dead Reckoning\, a beachside band known for sublime Grateful Dead-insp
 ired jams.
RRULE:FREQ=WEEKLY;INTERVAL=1;UNTIL=20260508T000000Z;BYDAY=FR
EXDATE;VALUE=DATE:20260501
X-MICROSOFT-CDO-ALLDAYEVENT:TRUE
CATEGORIES:Live Music
DTSTAMP:20260424T164202Z
END:VEVENT
BEGIN:VEVENT
UID:69eb9d5a99c42
DTSTART;VALUE=DATE:20260403
SEQUENCE:0
TRANSP:OPAQUE
URL:https://www.caperesorts.com/beach-shack/calendar/chefs-at-work
SUMMARY:Chefs at Work
CLASS:PUBLIC
DESCRIPTION:Chefs at Work\n\nWe invite our Explorers behind the scenes at T
 he Boiler Room for a culinary experience alongside the esteemed chefs of C
 ongress Hall.
RRULE:FREQ=WEEKLY;INTERVAL=1;UNTIL=20260410T000000Z;BYDAY=FR
X-MICROSOFT-CDO-ALLDAYEVENT:TRUE
CATEGORIES:Guest Activities
DTSTAMP:20260424T164202Z
END:VEVENT
BEGIN:VEVENT
UID:69eb9d5a9a6ea
DTSTART;VALUE=DATE:20260403
SEQUENCE:0
TRANSP:OPAQUE
URL:https://www.caperesorts.com/beach-shack/calendar/field-journaling-notic
 ing-nature
SUMMARY:Field Journaling: Noticing Nature
CLASS:PUBLIC
DESCRIPTION:Field Journaling: Noticing Nature\n\nIn this introduction to jo
 urnaling for Explorers\, we will learn simple techniques for observing\, s
 ketching\, and recording what we see.
RRULE:FREQ=WEEKLY;INTERVAL=1;UNTIL=20260410T000000Z;BYDAY=FR
X-MICROSOFT-CDO-ALLDAYEVENT:TRUE
CATEGORIES:Guest Activities
DTSTAMP:20260424T164202Z
END:VEVENT
BEGIN:VEVENT
UID:69eb9d5a9aff1
DTSTART;VALUE=DATE:20260404
SEQUENCE:0
TRANSP:OPAQUE
URL:https://www.caperesorts.com/beach-shack/calendar/field-trip-reptiles-up
 -close
SUMMARY:Field Trip: Reptiles Up Close
CLASS:PUBLIC
DESCRIPTION:Field Trip: Reptiles Up Close\n\nTake a field trip to the cente
 r for an up-close look at New Jersey’s native  reptiles.
RRULE:FREQ=WEEKLY;INTERVAL=1;UNTIL=20260411T000000Z;BYDAY=SA
X-MICROSOFT-CDO-ALLDAYEVENT:TRUE
CATEGORIES:Guest Activities
DTSTAMP:20260424T164202Z
END:VEVENT
BEGIN:VEVENT
UID:69eb9d5a9dd01
DTSTART;VALUE=DATE:20260404
SEQUENCE:0
TRANSP:OPAQUE
URL:https://www.caperesorts.com/beach-shack/calendar/trail-detectives-natur
 e-scavenger-hunt
SUMMARY:Trail Detectives: Nature Scavenger Hunt
CLASS:PUBLIC
DESCRIPTION:Trail Detectives: Nature Scavenger Hunt\n\nJoin us at Cape May 
 Point State Park for a nature scavenger hunt through one of the region’s
  most diverse coastal landscapes.
RRULE:FREQ=WEEKLY;INTERVAL=1;UNTIL=20260411T000000Z;BYDAY=SA
X-MICROSOFT-CDO-ALLDAYEVENT:TRUE
CATEGORIES:Guest Activities
DTSTAMP:20260424T164202Z
END:VEVENT
BEGIN:VEVENT
UID:69eb9d5a9ec7a
DTSTART;VALUE=DATE:20260404
SEQUENCE:0
TRANSP:OPAQUE
URL:https://www.caperesorts.com/beach-shack/calendar/diamond-hunters-of-cap
 e-may
SUMMARY:Diamond Hunters of Cape May
CLASS:PUBLIC
DESCRIPTION:Diamond Hunters of Cape May\n\nJoin our guides on this adventur
 e as we learn about the geology\, legends\, and history behind Cape May Di
 amonds.
RRULE:FREQ=WEEKLY;INTERVAL=1;UNTIL=20260411T000000Z;BYDAY=SA
X-MICROSOFT-CDO-ALLDAYEVENT:TRUE
CATEGORIES:Guest Activities
DTSTAMP:20260424T164202Z
END:VEVENT
BEGIN:VEVENT
UID:69eb9d5aa18b9
DTSTART;VALUE=DATE:20260411
SEQUENCE:0
TRANSP:OPAQUE
URL:https://www.caperesorts.com/beach-shack/calendar/denny-shiffler-at-the-
 rusty-nail
SUMMARY:Denny Shiffler at The Rusty Nail
CLASS:PUBLIC
DESCRIPTION:Denny Shiffler at The Rusty Nail\n\nHead to The Rusty Nail for 
 a set by Denny Shiffler!
RRULE:FREQ=WEEKLY;INTERVAL=1;UNTIL=20260411T000000Z;BYDAY=SA
X-MICROSOFT-CDO-ALLDAYEVENT:TRUE
CATEGORIES:Live Music
DTSTAMP:20260424T164202Z
END:VEVENT
BEGIN:VEVENT
UID:69eb9d5aa29cf
DTSTART;VALUE=DATE:20260411
SEQUENCE:0
TRANSP:OPAQUE
URL:https://www.caperesorts.com/beach-shack/calendar/max-davey-duo-at-the-r
 usty-nail3
SUMMARY:Max Davey Duo at The Rusty Nail
CLASS:PUBLIC
DESCRIPTION:Max Davey Duo at The Rusty Nail\n\nHead to The Rusty Nail for a
  set by the Max Davey Duo!
RRULE:FREQ=WEEKLY;INTERVAL=1;UNTIL=20260418T000000Z;BYDAY=SA
EXDATE;VALUE=DATE:20251018
X-MICROSOFT-CDO-ALLDAYEVENT:TRUE
CATEGORIES:Live Music
DTSTAMP:20260424T164202Z
END:VEVENT
BEGIN:VEVENT
UID:69eb9d5aa2e82
DTSTART;VALUE=DATE:20260425
SEQUENCE:0
TRANSP:OPAQUE
URL:https://www.caperesorts.com/beach-shack/calendar/ray-gervato-at-the-rus
 ty-nail
SUMMARY:Ray Gervato at the Rusty Nail
CLASS:PUBLIC
DESCRIPTION:Ray Gervato at the Rusty Nail\n\nJoin us at the Rusty Nail for 
 an acoustic set by Ray Gervato. You’ll love his voice and amazing arrang
 ements of some of classic rock tunes.
RRULE:FREQ=DAILY;INTERVAL=1;UNTIL=20260425T000000Z
X-MICROSOFT-CDO-ALLDAYEVENT:TRUE
CATEGORIES:Live Music
DTSTAMP:20260424T164202Z
END:VEVENT
BEGIN:VEVENT
UID:69eb9d5aa552b
DTSTART;VALUE=DATE:20260425
SEQUENCE:0
TRANSP:OPAQUE
URL:https://www.caperesorts.com/beach-shack/calendar/yachtzee-at-the-rusty-
 nail
SUMMARY:Yachtzee at the Rusty Nail
CLASS:PUBLIC
DESCRIPTION:Yachtzee at the Rusty Nail\n\nHead over to the Rusty Nail for a
 n energetic set of classic rock and roll songs from the 60's all the way t
 o the 2000's.
RRULE:FREQ=WEEKLY;INTERVAL=1;UNTIL=20260502T000000Z;BYDAY=SA
X-MICROSOFT-CDO-ALLDAYEVENT:TRUE
CATEGORIES:Live Music
DTSTAMP:20260424T164202Z
END:VEVENT
BEGIN:VEVENT
UID:69eb9d5aa923b
DTSTART;VALUE=DATE:20260501
SEQUENCE:0
TRANSP:OPAQUE
URL:https://www.caperesorts.com/beach-shack/calendar/camille-peruto-at-the-
 rusty-nail
SUMMARY:Camille Peruto at the Rusty Nail
CLASS:PUBLIC
DESCRIPTION:Camille Peruto at the Rusty Nail\n\nHead to the Rusty Nail for 
 a set by musician Camille Peruto.
RRULE:FREQ=WEEKLY;INTERVAL=1;UNTIL=20260501T000000Z;BYDAY=FR
EXDATE;VALUE=DATE:20251003
X-MICROSOFT-CDO-ALLDAYEVENT:TRUE
CATEGORIES:Live Music
DTSTAMP:20260424T164202Z
END:VEVENT
BEGIN:VEVENT
UID:69eb9d5aa9a6d
DTSTART;VALUE=DATE:20260502
SEQUENCE:0
TRANSP:OPAQUE
URL:https://www.caperesorts.com/beach-shack/calendar/gene-shepherd-at-the-r
 usty-nail
SUMMARY:Gene Shepherd at the Rusty Nail
CLASS:PUBLIC
DESCRIPTION:Gene Shepherd at the Rusty Nail\n\nHead to the Rusty Nail for a
  set by musician Gene Shepherd.
RRULE:FREQ=WEEKLY;INTERVAL=1;UNTIL=20260509T000000Z;BYDAY=SA
X-MICROSOFT-CDO-ALLDAYEVENT:TRUE
CATEGORIES:Live Music
DTSTAMP:20260424T164202Z
END:VEVENT
BEGIN:VEVENT
UID:69eb9d5aabf85
DTSTART;VALUE=DATE:20260504
SEQUENCE:0
TRANSP:OPAQUE
URL:https://www.caperesorts.com/beach-shack/calendar/botanical-mocktail-cla
 ss
SUMMARY:Botanical Mocktail Class
CLASS:PUBLIC
DESCRIPTION:Botanical Mocktail Class\n\nOffered exclusively to Cape Resorts
  guests\, step into the gardens of Beach Plum Farm and discover the art of
  crafting spirit-free cocktails.
RRULE:FREQ=WEEKLY;INTERVAL=1;UNTIL=20261026T000000Z;BYDAY=MO
X-MICROSOFT-CDO-ALLDAYEVENT:TRUE
CATEGORIES:Guest Activities
DTSTAMP:20260424T164202Z
END:VEVENT
BEGIN:VEVENT
UID:69eb9d5aad46c
DTSTART;VALUE=DATE:20260508
SEQUENCE:0
TRANSP:OPAQUE
URL:https://www.caperesorts.com/beach-shack/calendar/yachtzee-at-the-rusty-
 nail2
SUMMARY:Yachtzee at the Rusty Nail
CLASS:PUBLIC
DESCRIPTION:Yachtzee at the Rusty Nail\n\nHead over to the Rusty Nail for a
 n energetic set of classic rock and roll songs from the 60's all the way t
 o the 2000's.
RRULE:FREQ=DAILY;INTERVAL=1;UNTIL=20260508T000000Z
X-MICROSOFT-CDO-ALLDAYEVENT:TRUE
CATEGORIES:Live Music
DTSTAMP:20260424T164202Z
END:VEVENT
BEGIN:VEVENT
UID:69eb9d5aade2d
DTSTART;VALUE=DATE:20260509
SEQUENCE:0
TRANSP:OPAQUE
URL:https://www.caperesorts.com/beach-shack/calendar/max-davey-duo-at-the-r
 usty-nail
SUMMARY:Max Davey Duo at The Rusty Nail
CLASS:PUBLIC
DESCRIPTION:Max Davey Duo at The Rusty Nail\n\nHead to The Rusty Nail for a
  set by the Max Davey Duo!
RRULE:FREQ=WEEKLY;INTERVAL=1;UNTIL=20260509T000000Z;BYDAY=SA
EXDATE;VALUE=DATE:20251018
X-MICROSOFT-CDO-ALLDAYEVENT:TRUE
CATEGORIES:Live Music
DTSTAMP:20260424T164202Z
END:VEVENT
BEGIN:VEVENT
UID:69eb9d5aae776
DTSTART;VALUE=DATE:20260509
SEQUENCE:0
TRANSP:OPAQUE
URL:https://www.caperesorts.com/beach-shack/calendar/the-joe-napoli-duo-at-
 the-rusty-nail
SUMMARY:The Joe Napoli Duo at The Rusty Nail
CLASS:PUBLIC
DESCRIPTION:The Joe Napoli Duo at The Rusty Nail\n\nJoin us at the Rusty Na
 il for a set by the Joe Napoli Duo.
RRULE:FREQ=DAILY;INTERVAL=1;UNTIL=20260509T000000Z
X-MICROSOFT-CDO-ALLDAYEVENT:TRUE
CATEGORIES:Live Music
DTSTAMP:20260424T164202Z
END:VEVENT
BEGIN:VEVENT
UID:69eb9d5ab0641
DTSTART;VALUE=DATE:20260510
SEQUENCE:0
TRANSP:OPAQUE
URL:https://www.caperesorts.com/beach-shack/calendar/ray-gervato-at-the-rus
 ty-nail2
SUMMARY:Ray Gervato at the Rusty Nail
CLASS:PUBLIC
DESCRIPTION:Ray Gervato at the Rusty Nail\n\nJoin us at the Rusty Nail for 
 an acoustic set by Ray Gervato. You’ll love his voice and amazing arrang
 ements of some of classic rock tunes.
RRULE:FREQ=DAILY;INTERVAL=1;UNTIL=20260510T000000Z
X-MICROSOFT-CDO-ALLDAYEVENT:TRUE
CATEGORIES:Live Music
DTSTAMP:20260424T164202Z
END:VEVENT
BEGIN:VEVENT
UID:69eb9d5ab1097
DTSTART;VALUE=DATE:20260511
SEQUENCE:0
TRANSP:OPAQUE
URL:https://www.caperesorts.com/beach-shack/calendar/matt-diventi-at-the-ru
 sty-nail
SUMMARY:Matt DiVenti at the Rusty Nail
CLASS:PUBLIC
DESCRIPTION:Matt DiVenti at the Rusty Nail\n\nHead over to The Rusty Nail f
 or a set of music by Matt DiVenti.
RRULE:FREQ=WEEKLY;INTERVAL=1;UNTIL=20260511T000000Z;BYDAY=MO
X-MICROSOFT-CDO-ALLDAYEVENT:TRUE
CATEGORIES:Live Music
DTSTAMP:20260424T164202Z
END:VEVENT
BEGIN:VEVENT
UID:69eb9d5ab3a03
DTSTART;VALUE=DATE:20260512
SEQUENCE:0
TRANSP:OPAQUE
URL:https://www.caperesorts.com/beach-shack/calendar/greg-jones-at-the-rust
 y-nail
SUMMARY:Greg Jones at The Rusty Nail
CLASS:PUBLIC
DESCRIPTION:Greg Jones at The Rusty Nail\n\nHead to The Rusty Nail for a se
 t of music by Greg Jones!
RRULE:FREQ=WEEKLY;INTERVAL=1;UNTIL=20260512T000000Z;BYDAY=TU
X-MICROSOFT-CDO-ALLDAYEVENT:TRUE
CATEGORIES:Live Music
DTSTAMP:20260424T164202Z
END:VEVENT
BEGIN:VEVENT
UID:69eb9d5ab4d34
DTSTART;VALUE=DATE:20260513
SEQUENCE:0
TRANSP:OPAQUE
URL:https://www.caperesorts.com/beach-shack/calendar/what-he-say-band-at-th
 e-rusty-nail
SUMMARY:What He Say at The Rusty Nail
CLASS:PUBLIC
DESCRIPTION:What He Say at The Rusty Nail\n\nHead to The Rusty Nail for an 
 energetic set of local Cape May rock band What He Say!
RRULE:FREQ=WEEKLY;INTERVAL=1;UNTIL=20260513T000000Z;BYDAY=WE
X-MICROSOFT-CDO-ALLDAYEVENT:TRUE
CATEGORIES:Live Music
DTSTAMP:20260424T164202Z
END:VEVENT
BEGIN:VEVENT
UID:69eb9d5ab542f
DTSTART;VALUE=DATE:20260514
SEQUENCE:0
TRANSP:OPAQUE
URL:https://www.caperesorts.com/beach-shack/calendar/don-evans-at-the-rusty
 -nail
SUMMARY:Don Evans at the Rusty Nail
CLASS:PUBLIC
DESCRIPTION:Don Evans at the Rusty Nail\n\nHead over to The Rusty Nail for 
 a set of great blues classics and electric instrumentals from Don Evans.
RRULE:FREQ=WEEKLY;INTERVAL=1;UNTIL=20260514T000000Z;BYDAY=TH
EXDATE;VALUE=DATE:20260510
X-MICROSOFT-CDO-ALLDAYEVENT:TRUE
CATEGORIES:Live Music
DTSTAMP:20260424T164202Z
END:VEVENT
BEGIN:VEVENT
UID:69eb9d5ab7345
DTSTART;VALUE=DATE:20260528
SEQUENCE:0
TRANSP:OPAQUE
URL:https://www.caperesorts.com/beach-shack/calendar/cape-may-music-festiva
 l
SUMMARY:Cape May Music Festival
CLASS:PUBLIC
DESCRIPTION:Cape May Music Festival\n\nThe Cape May Music Festival returns 
 to this seaside resort with an engaging variety of musical concerts\, laun
 ching on Memorial Day weekend.
RRULE:FREQ=WEEKLY;INTERVAL=1;UNTIL=20260628T000000Z;BYDAY=TH,SA,SU
X-MICROSOFT-CDO-ALLDAYEVENT:TRUE
CATEGORIES:Local Events
DTSTAMP:20260424T164202Z
END:VEVENT
BEGIN:VEVENT
UID:69eb9d5abb0c3
DTSTART;VALUE=DATE:20260531
SEQUENCE:0
TRANSP:OPAQUE
URL:https://www.caperesorts.com/beach-shack/calendar/flowers-moon-dinner-at
 -beach-plum-farm
SUMMARY:Flower Moon Dinner
CLASS:PUBLIC
DESCRIPTION:Flower Moon Dinner\n\nIn the light of the Flower Moon\, join us
  for a special farm dinner that celebrates the late spring harvest.
RRULE:FREQ=DAILY;INTERVAL=1;UNTIL=20260531T000000Z
X-MICROSOFT-CDO-ALLDAYEVENT:TRUE
CATEGORIES:Local Events
DTSTAMP:20260424T164202Z
END:VEVENT
BEGIN:VEVENT
UID:69eb9d5abb977
DTSTART;VALUE=DATE:20260615
SEQUENCE:0
TRANSP:OPAQUE
URL:https://www.caperesorts.com/beach-shack/calendar/carnival-monday
SUMMARY:Monday Night Carnival at Congress Hall
CLASS:PUBLIC
DESCRIPTION:Monday Night Carnival at Congress Hall\n\nJoin us on the Grand 
 Lawn for Congress Hall's Monday Night Carnival!
RRULE:FREQ=WEEKLY;INTERVAL=1;UNTIL=20260831T000000Z;BYDAY=MO
X-MICROSOFT-CDO-ALLDAYEVENT:TRUE
CATEGORIES:Local Events
DTSTAMP:20260424T164202Z
END:VEVENT
BEGIN:VEVENT
UID:69eb9d5abc3f8
DTSTART;VALUE=DATE:20260616
SEQUENCE:0
TRANSP:OPAQUE
URL:https://www.caperesorts.com/beach-shack/calendar/tye-dye-tuesday
SUMMARY:Tie Dye Tuesday at the Rusty Nail
CLASS:PUBLIC
DESCRIPTION:Tie Dye Tuesday at the Rusty Nail\n\nCreate your own tie dye sh
 irt at the Rusty Nail!
RRULE:FREQ=WEEKLY;INTERVAL=1;UNTIL=20260825T000000Z;BYDAY=TU
X-MICROSOFT-CDO-ALLDAYEVENT:TRUE
CATEGORIES:Special Events
DTSTAMP:20260424T164202Z
END:VEVENT
BEGIN:VEVENT
UID:69eb9d5abd27d
DTSTART;VALUE=DATE:20260702
SEQUENCE:0
TRANSP:OPAQUE
URL:https://www.caperesorts.com/beach-shack/calendar/blues-clubhouse
SUMMARY:Blue’s Clubhouse
CLASS:PUBLIC
DESCRIPTION:Blue’s Clubhouse\n\nKids aged 5-12 will love Blue's Clubhouse
 \, our structured kids' club that's chock-full of awesome activities and g
 ames.
RRULE:FREQ=WEEKLY;INTERVAL=1;UNTIL=20260829T000000Z;BYDAY=TH,FR,SA
EXDATE;VALUE=DATE:20250704
X-MICROSOFT-CDO-ALLDAYEVENT:TRUE
CATEGORIES:Local Events
DTSTAMP:20260424T164202Z
END:VEVENT
END:VCALENDAR